BEGIN:VCALENDAR
VERSION:2.0
PRODID:icalendar-ruby
CALSCALE:GREGORIAN
METHOD:PUBLISH
BEGIN:VEVENT
DTSTAMP:20260420T061308Z
UID:703-1365946@comoxunitedchurch.com
DTSTART:20260423T030000Z
DTEND:20260423T043000Z
CLASS:PUBLIC
CREATED:20260419T202212
DESCRIPTION:\n\nPhoto from namibiadailynews.info\n(Article from Showpass we
 bsite)\nFrom Namibia to Courtenay: A Global Choral Celebration! \nAn unfo
 rgettable night of rhythm\, harmony\, and soul. Namibia’s renowned Coll
 ective Singers Choir is bringing their high-energy tour to Western Canada
 \, and Courtenay is on the map!\nFrom international stages like the World 
 Choral Expo in Portugal\, these 36 powerful vocalists are known for perfor
 mances that move the spirit (and the feet!). This isn’t just a concert
 —it’s a collaboration. Collective will be joined by our very own Co-V
 al Choristers.\nProudly sponsored by the Korora Choir Association as the
 y celebrate their 30th Anniversary.\nBring the whole family—this is musi
 c for everyone!\n\n\n\nTo buy tickets\, click here\nFor more information\,
  click here\nTo watch a short video of the choir performing\, click here\n
LAST-MODIFIED:20260419T202212
LOCATION:
SUMMARY:Renowned Namibian Choir
URL;VALUE=URI:https://www.comoxunitedchurch.com/events/renowned-namibian-ch
 oir/2026-04-22
ATTACH;FILENAME=Namibia-choir.jpg;FMTTYPE=image/jpeg:https://dq5pwpg1q8ru0.
 cloudfront.net/2026/04/20/03/11/28/0573fc99-ab45-4f84-962e-adf08b4d2741/Na
 mibia-choir.jpg
END:VEVENT
END:VCALENDAR
