BEGIN:VCALENDAR
VERSION:2.0
PRODID:icalendar-ruby
CALSCALE:GREGORIAN
METHOD:PUBLISH
BEGIN:VEVENT
DTSTAMP:20260420T060830Z
UID:702-1339597@comoxunitedchurch.com
DTSTART:20260425T210000Z
DTEND:20260425T230000Z
CLASS:PUBLIC
CREATED:20260414T112226
DESCRIPTION:Town Hall discussion of local aquifers\nfrom the Comox Valley R
 ecord:\nThe Beaufort Watershed Stewards (BWS) will be presenting a town ha
 ll to discuss “Local aquifers: What Our Data Reveal.”  On Vancouver I
 sland\, aquifers provide over 70 per cent of drinking water.  “As with 
 much of B.C.\, local aquifers are poorly characterized due to their small 
 size\, complex geology\, and limited funding for study\,” a release from
  BWS says. “This leaves many communities without essential information a
 bout their only water source. Our hope is that this town hall will give a 
 ‘deeper’ understanding of local groundwater basics.”  \nRead more: 
 here
LAST-MODIFIED:20260414T112226
LOCATION:Fanny Bay Community Hall
SUMMARY:Local Aquifers - data revealed!
URL;VALUE=URI:https://www.comoxunitedchurch.com/events/local-aquifers-data-
 revealed/2026-04-25
ATTACH;FILENAME=BWS-Invitation-Poster-April-2026.jpg;FMTTYPE=image/jpeg:htt
 ps://dq5pwpg1q8ru0.cloudfront.net/2026/04/14/17/00/15/342dc945-d9af-4955-a
 149-baa5254e85af/BWS-Invitation-Poster-April-2026.jpg
END:VEVENT
END:VCALENDAR
