BEGIN:VCALENDAR
VERSION:2.0
PRODID:icalendar-ruby
CALSCALE:GREGORIAN
METHOD:PUBLISH
BEGIN:VEVENT
DTSTAMP:20260420T060841Z
UID:358-1366269@comoxunitedchurch.com
DTSTART:20261019T203000Z
DTEND:20261019T223000Z
CLASS:PUBLIC
CREATED:20260419T214047
DESCRIPTION:NOTE: NO knitting group this Monday\, December 22nd. Enjoy your
  Christmas week!\n \nThe KNITTING GROUP  meets at the church on Monday a
 t 1:30 p.m. From the lower parking lot\, go in the door and we'll be in th
 e first room on the left.\n We are a supportive community of people who lo
 ve to craft items. We knit\, crochet and quilt items to sell or give away.
  We have made items for Healthy Babies\, the Care-a-Van\, and prayer shawl
 s for those in need or as gifts.\nMulti-Media Products: baby items\, dryer
  balls\, felted purses\, underwater coral reefs\, crocheted water balloons
  - the variety is endless! And no yarn is too tangled for the group to tac
 kle together!\nFor more information\, contact Bev Agur:  bevagur@shaw.ca\
 nWe WELCOME all. If you just need a place to chat\, come and join us. \nS
 ee you on Monday!\n\n\n\n 
LAST-MODIFIED:20260419T214047
LOCATION:Comox United Church
SUMMARY:Knitting Group 
URL;VALUE=URI:https://www.comoxunitedchurch.com/events/knitting-group--358/
 2026-10-19
ATTACH;FILENAME=Knitting Group B (2).jpg;FMTTYPE=image/jpeg:https://dq5pwpg
 1q8ru0.cloudfront.net/2021/03/16/22/43/46/6af826ee-51ee-4d5e-ab69-e452b7a0
 7326/Knitting%20Group%20B%20(2).jpg
END:VEVENT
END:VCALENDAR
