BEGIN:VCALENDAR
VERSION:2.0
PRODID:icalendar-ruby
CALSCALE:GREGORIAN
METHOD:PUBLISH
BEGIN:VEVENT
DTSTAMP:20260424T231246Z
UID:707-1381597@comoxunitedchurch.com
DTSTART:20260426T210000Z
DTEND:20260426T220000Z
CLASS:PUBLIC
CREATED:20260422T202036
DESCRIPTION:Walking Group:\nJoin us in a walk through the Rhododendron Gard
 ens in East Courtenay on Sunday\, April 26th!\n\nWe'll meet at 2 pm by the
  crosswalk on Thorpe Ave (midway between Malahat Drive and Valley View Dri
 ve) and walk from there to the gardens.\n\nThe trail is well maintained\; 
 however\, there are some hilly spots.
LAST-MODIFIED:20260422T202036
LOCATION:
SUMMARY:Comox United Church Walking Group
URL;VALUE=URI:https://www.comoxunitedchurch.com/events/comox-united-church-
 walking-group--707/2026-04-26
ATTACH;FILENAME=Rhodo.jpg;FMTTYPE=image/jpeg:https://dq5pwpg1q8ru0.cloudfro
 nt.net/2026/04/23/03/19/56/b391f186-5792-4352-a1ab-ddbee2804970/Rhodo.jpg
END:VEVENT
END:VCALENDAR
